BEGIN:VCALENDAR
VERSION:2.0
PRODID:-//Middeleeuwse beleving - ECPv6.15.20//NONSGML v1.0//EN
CALSCALE:GREGORIAN
METHOD:PUBLISH
X-WR-CALNAME:Middeleeuwse beleving
X-ORIGINAL-URL:https://hanzecompagnie.nl
X-WR-CALDESC:Evenementen voor Middeleeuwse beleving
REFRESH-INTERVAL;VALUE=DURATION:PT1H
X-Robots-Tag:noindex
X-PUBLISHED-TTL:PT1H
BEGIN:VTIMEZONE
TZID:Europe/Amsterdam
BEGIN:DAYLIGHT
TZOFFSETFROM:+0100
TZOFFSETTO:+0200
TZNAME:CEST
DTSTART:20260329T010000
END:DAYLIGHT
BEGIN:STANDARD
TZOFFSETFROM:+0200
TZOFFSETTO:+0100
TZNAME:CET
DTSTART:20261025T010000
END:STANDARD
BEGIN:DAYLIGHT
TZOFFSETFROM:+0100
TZOFFSETTO:+0200
TZNAME:CEST
DTSTART:20270328T010000
END:DAYLIGHT
BEGIN:STANDARD
TZOFFSETFROM:+0200
TZOFFSETTO:+0100
TZNAME:CET
DTSTART:20271031T010000
END:STANDARD
BEGIN:DAYLIGHT
TZOFFSETFROM:+0100
TZOFFSETTO:+0200
TZNAME:CEST
DTSTART:20280326T010000
END:DAYLIGHT
BEGIN:STANDARD
TZOFFSETFROM:+0200
TZOFFSETTO:+0100
TZNAME:CET
DTSTART:20281029T010000
END:STANDARD
END:VTIMEZONE
BEGIN:VEVENT
DTSTART;VALUE=DATE:20270806
DTEND;VALUE=DATE:20270809
DTSTAMP:20260424T023634
CREATED:20251025T215238Z
LAST-MODIFIED:20251025T215401Z
UID:652-1817510400-1817769599@hanzecompagnie.nl
SUMMARY:Soester Fehde 2027
DESCRIPTION:Europees Middeleeuws Festival met deelnemers uit 12 landen \nHonderden burgers en middeleeuwse groepen\, met meer dan 900 deelnemers uit heel Duitsland en 12 Europese landen\, komen elke twee jaar in Soest bijeen voor de Soester Fehde (Soester Feud)\, die de stad en haar hordes bezoekers meeneemt op een reis door de tijd naar de geschiedenis van de oude Hanzestad.
URL:https://hanzecompagnie.nl/evenement/soester-fehde-2027/
LOCATION:Soest (Duistland)\, Dasselwall\, Soest\, 59494\, Germany
CATEGORIES:Groot evenement
END:VEVENT
END:VCALENDAR