BEGIN:VCALENDAR
VERSION:2.0
PRODID:-//Middeleeuwse beleving - ECPv6.15.20//NONSGML v1.0//EN
CALSCALE:GREGORIAN
METHOD:PUBLISH
X-WR-CALNAME:Middeleeuwse beleving
X-ORIGINAL-URL:https://hanzecompagnie.nl
X-WR-CALDESC:Evenementen voor Middeleeuwse beleving
REFRESH-INTERVAL;VALUE=DURATION:PT1H
X-Robots-Tag:noindex
X-PUBLISHED-TTL:PT1H
BEGIN:VTIMEZONE
TZID:Europe/Amsterdam
BEGIN:DAYLIGHT
TZOFFSETFROM:+0100
TZOFFSETTO:+0200
TZNAME:CEST
DTSTART:20250330T010000
END:DAYLIGHT
BEGIN:STANDARD
TZOFFSETFROM:+0200
TZOFFSETTO:+0100
TZNAME:CET
DTSTART:20251026T010000
END:STANDARD
BEGIN:DAYLIGHT
TZOFFSETFROM:+0100
TZOFFSETTO:+0200
TZNAME:CEST
DTSTART:20260329T010000
END:DAYLIGHT
BEGIN:STANDARD
TZOFFSETFROM:+0200
TZOFFSETTO:+0100
TZNAME:CET
DTSTART:20261025T010000
END:STANDARD
BEGIN:DAYLIGHT
TZOFFSETFROM:+0100
TZOFFSETTO:+0200
TZNAME:CEST
DTSTART:20270328T010000
END:DAYLIGHT
BEGIN:STANDARD
TZOFFSETFROM:+0200
TZOFFSETTO:+0100
TZNAME:CET
DTSTART:20271031T010000
END:STANDARD
END:VTIMEZONE
BEGIN:VEVENT
DTSTART;TZID=Europe/Amsterdam:20260406T100000
DTEND;TZID=Europe/Amsterdam:20260406T160000
DTSTAMP:20260424T001903
CREATED:20251129T103451Z
LAST-MODIFIED:20260409T211853Z
UID:681-1775469600-1775491200@hanzecompagnie.nl
SUMMARY:Buitendag Noordoostpolder 2026
DESCRIPTION:Foto’s \nHet evenement dat met Pasen in het Kuinderbos plaatsvindt\, heet Buitendag Noordoostpolder en wordt georganiseerd op Tweede Paasdag door Staatsbosbeheer en Lionsclub Noordoostpolder. Het is een echte familiedag met meer dan 80 activiteiten en stands. Hier zijn de belangrijkste onderdelen: \n\nStokpaardenparcours en het nieuwe Fabeltjeskrant speurbos.\nPaaseieren zoeken met de Paashaas voor kinderen.\nJack Russel races\, demonstraties met politiehonden en schapen drijven.\nRingsteken met tractoren\, ATB-fietsparcours en klimtoren van scouting Polaris.\nExcursies met de boswachter\, varen op de Kuinderplas en huifkartocht.\nDjembé trommelen\, ‘Kop van Jut’\, motorzaagkunsten en houtbewerking (carvingswedstrijd).\nKinderactiviteiten: Kabouterpad\, schminken\, springkussens\, nestkastjes timmeren.\nHorecaplein met eten en drinken; opbrengst gaat naar goede doelen.
URL:https://hanzecompagnie.nl/evenement/buitendag-noordoostpolder/
LOCATION:Kuinderbos\, Hopweg 21\, Bant\, 8314 PX\, Netherlands
CATEGORIES:Eendaags evenement,Groot evenement
END:VEVENT
BEGIN:VEVENT
DTSTART;VALUE=DATE:20260124
DTEND;VALUE=DATE:20260126
DTSTAMP:20260424T001903
CREATED:20251129T095047Z
LAST-MODIFIED:20251129T101442Z
UID:666-1769212800-1769385599@hanzecompagnie.nl
SUMMARY:Kasteel Radboud Bewoont
DESCRIPTION:Winter evenement in kasteel Radboud
URL:https://hanzecompagnie.nl/evenement/kasteel-radboud-bewoont/
LOCATION:Kasteel Radboud\, Oudevaartsgat 8\, Medemblik\, Noord Holland\, 1671 HM\, Netherlands
CATEGORIES:Alleen met de Hanzecompagie
ORGANIZER;CN="Hanzecompagnie":MAILTO:info@hanzecompagnie.nl
END:VEVENT
END:VCALENDAR